BEGIN:VCALENDAR
VERSION:2.0
PRODID:-//ChamberMaster//Event Calendar 2.0//EN
METHOD:PUBLISH
X-PUBLISHED-TTL:P3D
REFRESH-INTERVAL:P3D
CALSCALE:GREGORIAN
BEGIN:VEVENT
DTSTART:20250427T200000Z
DTEND:20250427T210000Z
X-MICROSOFT-CDO-ALLDAYEVENT:FALSE
SUMMARY:Mending Circle
DESCRIPTION:Everyone is invited to this time and place for mending holes\, tears\, etc. in our clothes in company with others who want to make their clothes last. All skill levels are welcome - we learn from each other and library books. Basic supplies are provided. Just bring your clothes! This is part of Vermillion Earth Days\, a community-wide series of events around town and on campus. See the full schedule on GreeningVermillion.org.
X-ALT-DESC;FMTTYPE=text/html:Everyone is invited to this time and place for mending holes\, tears\, etc. in our clothes in company with others who want to make their clothes last. All skill levels are welcome - we learn from each other and library books. Basic supplies are provided. Just bring your clothes! This is part of Vermillion Earth Days\, a community-wide series of events around town and on campus. See the full schedule on GreeningVermillion.org.
LOCATION:Vermillion Public Library (small conference room)
UID:e.2277.27930
SEQUENCE:3
DTSTAMP:20260423T143135Z
URL:http://vermillionchamber.chambermaster.com/events/details/mending-circle-27930
END:VEVENT

END:VCALENDAR
